BEGIN:VCALENDAR
PRODID:-//climbIT//Tourenangebot//DE
VERSION:2.0
METHOD:PUBLISH
BEGIN:VEVENT
UID:tour-1fdbc43b-411b-4983-93d7-a15190b9b820@touren.sac-bern.ch
DTSTAMP:20260424T014601
SEQUENCE:0
CLASS:PUBLIC
TRANSP:OPAQUE
DTSTART;VALUE=DATE:20240713
DTEND;VALUE=DATE:20240715
SUMMARY:Sektion Bern: Rimpfischhorn 4199 m
DESCRIPTION:Nach deiner Anmeldung und bei jeder Statusänderung wird ein Kalendereintrag per E-Mail verschickt.\n\nAktuelle Informationen\nTourenlink: https://touren.sac-bern.ch/tours/view/1fdbc43b-411b-4983-93d7-a15190b9b820\n\n\nDein Tourenangebot Team
END:VEVENT
END:VCALENDAR